BEGIN:VCALENDAR
VERSION:2.0
PRODID:-//The Interchange Institute - ECPv6.15.20//NONSGML v1.0//EN
CALSCALE:GREGORIAN
METHOD:PUBLISH
X-WR-CALNAME:The Interchange Institute
X-ORIGINAL-URL:https://interchangeinstitute.org
X-WR-CALDESC:Events for The Interchange Institute
REFRESH-INTERVAL;VALUE=DURATION:PT1H
X-Robots-Tag:noindex
X-PUBLISHED-TTL:PT1H
BEGIN:VTIMEZONE
TZID:UTC
BEGIN:STANDARD
TZOFFSETFROM:+0000
TZOFFSETTO:+0000
TZNAME:UTC
DTSTART:20220101T000000
END:STANDARD
END:VTIMEZONE
BEGIN:VEVENT
DTSTART;TZID=UTC:20230712T150000
DTEND;TZID=UTC:20230712T160000
DTSTAMP:20260424T115646
CREATED:20230228T142353Z
LAST-MODIFIED:20230623T045023Z
UID:3652-1689174000-1689177600@interchangeinstitute.org
SUMMARY:Culture Chat
DESCRIPTION:Looking to connect with other interculturalists from around the world? Join us for our free bi-weekly online Culture Chat. \nEach chat will have a focus question\, and previous topics have included Third Culture Kids and Cross Culture Kids\, favorite training activities\, culturally specific food traditions\, end-of-year traditions and holidays\, and more. \nWhether you’re a newcomer or a seasoned pro\, there’s something for everyone in our Culture Chat community. \nREGISTER AT: https://interchangeinstitute.org/culture-chat/
URL:https://interchangeinstitute.org/event/culture-chat-34/
LOCATION:Virtual
CATEGORIES:culture chat
ORGANIZER;CN="The Interchange Institute":MAILTO:info@interchangeinstitute.org
END:VEVENT
END:VCALENDAR