BEGIN:VCALENDAR
VERSION:2.0
PRODID:-//The Interchange Institute - ECPv6.15.20//NONSGML v1.0//EN
CALSCALE:GREGORIAN
METHOD:PUBLISH
X-ORIGINAL-URL:https://interchangeinstitute.org
X-WR-CALDESC:Events for The Interchange Institute
REFRESH-INTERVAL;VALUE=DURATION:PT1H
X-Robots-Tag:noindex
X-PUBLISHED-TTL:PT1H
BEGIN:VTIMEZONE
TZID:UTC
BEGIN:STANDARD
TZOFFSETFROM:+0000
TZOFFSETTO:+0000
TZNAME:UTC
DTSTART:20240101T000000
END:STANDARD
END:VTIMEZONE
BEGIN:VEVENT
DTSTART;TZID=UTC:20251015T140000
DTEND;TZID=UTC:20251015T150000
DTSTAMP:20260422T124333
CREATED:20250819T203827Z
LAST-MODIFIED:20250819T203827Z
UID:5088-1760536800-1760540400@interchangeinstitute.org
SUMMARY:Culture Chat
DESCRIPTION:Culture Chat
URL:https://interchangeinstitute.org/event/culture-chat-41/
LOCATION:Zoom online
ORGANIZER;CN="The Interchange Institute":MAILTO:info@interchangeinstitute.org
END:VEVENT
END:VCALENDAR