BEGIN:VCALENDAR
VERSION:2.0
PRODID:-//The Interchange Institute - ECPv6.15.20//NONSGML v1.0//EN
CALSCALE:GREGORIAN
METHOD:PUBLISH
X-WR-CALNAME:The Interchange Institute
X-ORIGINAL-URL:https://interchangeinstitute.org
X-WR-CALDESC:Events for The Interchange Institute
REFRESH-INTERVAL;VALUE=DURATION:PT1H
X-Robots-Tag:noindex
X-PUBLISHED-TTL:PT1H
BEGIN:VTIMEZONE
TZID:UTC
BEGIN:STANDARD
TZOFFSETFROM:+0000
TZOFFSETTO:+0000
TZNAME:UTC
DTSTART:20240101T000000
END:STANDARD
END:VTIMEZONE
BEGIN:VEVENT
DTSTART;VALUE=DATE:20251128
DTEND;VALUE=DATE:20251205
DTSTAMP:20260422T104518
CREATED:20250819T201941Z
LAST-MODIFIED:20250819T201941Z
UID:5079-1764288000-1764892799@interchangeinstitute.org
SUMMARY:Crossing Cultures with Competence (CCwC) Online
DESCRIPTION:Crossing Cultures with Competence: Training of Trainers
URL:https://interchangeinstitute.org/event/crossing-cultures-with-competence-ccwc-online-2/
LOCATION:Virtual
END:VEVENT
END:VCALENDAR