BEGIN:VCALENDAR
VERSION:2.0
PRODID:-//The Interchange Institute - ECPv6.15.20//NONSGML v1.0//EN
CALSCALE:GREGORIAN
METHOD:PUBLISH
X-WR-CALNAME:The Interchange Institute
X-ORIGINAL-URL:https://interchangeinstitute.org
X-WR-CALDESC:Events for The Interchange Institute
REFRESH-INTERVAL;VALUE=DURATION:PT1H
X-Robots-Tag:noindex
X-PUBLISHED-TTL:PT1H
BEGIN:VTIMEZONE
TZID:UTC
BEGIN:STANDARD
TZOFFSETFROM:+0000
TZOFFSETTO:+0000
TZNAME:UTC
DTSTART:20220101T000000
END:STANDARD
END:VTIMEZONE
BEGIN:VEVENT
DTSTART;VALUE=DATE:20230523
DTEND;VALUE=DATE:20230525
DTSTAMP:20260423T235446
CREATED:20230228T134614Z
LAST-MODIFIED:20230228T134614Z
UID:3629-1684800000-1684972799@interchangeinstitute.org
SUMMARY:Crossing Cultures With Competence: Training Of Trainers Workshop – Troy\, Michigan USA
DESCRIPTION:This unique training of trainers program is designed for those who are already working with people from other cultures and who want new ideas\, new materials and a new level of understanding about how to offer a top-notch cultural orientation.  This course will enable you to: \n\nlearn the strategies and techniques you need to offer in-depth and culture-specific cross-cultural orientations\nadd cultural skills to your knowledge base\nsupplement your existing cross-cultural training program\nease employees’ transition to a new country\n\n*Early bird and group discounts available
URL:https://interchangeinstitute.org/event/crossing-cultures-with-competence-training-of-trainers-workshop-troy-michigan-usa/
LOCATION:Troy\, Michigan\, MI\, United States
CATEGORIES:CCwC
ORGANIZER;CN="The Interchange Institute":MAILTO:info@interchangeinstitute.org
END:VEVENT
END:VCALENDAR