BEGIN:VCALENDAR
VERSION:2.0
PRODID:-//The Interchange Institute - ECPv6.15.20//NONSGML v1.0//EN
CALSCALE:GREGORIAN
METHOD:PUBLISH
X-ORIGINAL-URL:https://interchangeinstitute.org
X-WR-CALDESC:Events for The Interchange Institute
REFRESH-INTERVAL;VALUE=DURATION:PT1H
X-Robots-Tag:noindex
X-PUBLISHED-TTL:PT1H
BEGIN:VTIMEZONE
TZID:UTC
BEGIN:STANDARD
TZOFFSETFROM:+0000
TZOFFSETTO:+0000
TZNAME:UTC
DTSTART:20220101T000000
END:STANDARD
END:VTIMEZONE
BEGIN:VEVENT
DTSTART;VALUE=DATE:20231208
DTEND;VALUE=DATE:20231215
DTSTAMP:20260423T120141
CREATED:20230705T044739Z
LAST-MODIFIED:20231110T213056Z
UID:4727-1701993600-1702598399@interchangeinstitute.org
SUMMARY:Crossing Cultures With Competence: Training Of Trainers Program (online)
DESCRIPTION:Enhance your journey as an Intercultural Trainer with our Crossing Cultures with Competence (CCwC) – Training of Trainers program. Ideal for individuals already engaged in working with people from diverse cultures\, this course enables you to start or advance your career in intercultural training. \nKey Benefits: \n\nMaster our industry-recognized toolkit: Gain expertise in utilizing a range of proven strategies\, techniques\, and materials to provide comprehensive and culture-specific cross-cultural orientations.\nExpand your cultural skills: Augment your existing knowledge base by acquiring essential cultural competencies that will enrich your training capabilities.\nComplement existing training programs: Enhance your current cross-cultural training initiatives by incorporating the insights and resources offered through CCwC.\nSmooth employee transitions: Help employees seamlessly adjust to new countries and cultures\, facilitating their successful integration into new environments.\nLicense\, certificate\, and digital badge: Upon completion\, you will be licensed to utilize CCwC materials\, receive a certificate of completion\, and be awarded a digital badge\, showcasing your accomplishment.\nProgress towards ITEC certification: Earn credits towards the highly respected Intercultural Training Expertise Certification (ITEC)\, elevating your status as a certified professional trainer.\n\nOur engaging and interactive program is delivered by experienced senior trainers from The Interchange Institute\, ensuring a personalized learning experience. Classes are conducted in manageable group sizes to foster meaningful interaction and knowledge exchange. \nChoose the format that suits you best: Attend the ‘in-person’ two-day course available in various international locations or opt for the ‘online’ format delivered over five days\, with manageable two or three-hour sessions. \n*early bird and group discounts also available.
URL:https://interchangeinstitute.org/event/crossing-cultures-with-competence-training-of-trainers-program-online/
LOCATION:Virtual
CATEGORIES:CCwC
ORGANIZER;CN="The Interchange Institute":MAILTO:info@interchangeinstitute.org
END:VEVENT
END:VCALENDAR