BEGIN:VCALENDAR
VERSION:2.0
PRODID:-//The Interchange Institute - ECPv6.15.20//NONSGML v1.0//EN
CALSCALE:GREGORIAN
METHOD:PUBLISH
X-WR-CALNAME:The Interchange Institute
X-ORIGINAL-URL:https://interchangeinstitute.org
X-WR-CALDESC:Events for The Interchange Institute
REFRESH-INTERVAL;VALUE=DURATION:PT1H
X-Robots-Tag:noindex
X-PUBLISHED-TTL:PT1H
BEGIN:VTIMEZONE
TZID:UTC
BEGIN:STANDARD
TZOFFSETFROM:+0000
TZOFFSETTO:+0000
TZNAME:UTC
DTSTART:20190101T000000
END:STANDARD
END:VTIMEZONE
BEGIN:VEVENT
DTSTART;TZID=UTC:20201029T130000
DTEND;TZID=UTC:20201029T150000
DTSTAMP:20260421T015119
CREATED:20200922T162645Z
LAST-MODIFIED:20200922T162645Z
UID:510-1603976400-1603983600@interchangeinstitute.org
SUMMARY:Teacher Transition to International Schools
DESCRIPTION:So you’ve made to the jump and traveled far to your exciting new role at an International School……..but now what?! \nIn this webinar we will discuss the psychological and sociological adjustments and common challenges you will experience during your transition and how to make it a success.
URL:https://interchangeinstitute.org/event/teacher-transition-to-international-schools/
END:VEVENT
BEGIN:VEVENT
DTSTART;VALUE=DATE:20200928
DTEND;VALUE=DATE:20201003
DTSTAMP:20260421T015119
CREATED:20200922T161053Z
LAST-MODIFIED:20200922T161750Z
UID:496-1601251200-1601683199@interchangeinstitute.org
SUMMARY:Crossing Cultures with Competence Workshop - Level 1
DESCRIPTION:This unique training-of-trainers workshop is designed for people who are already working with people from other cultures and who want new ideas\, new materials and a new level of understanding about how to offer a top-notch cultural orientation.
URL:https://interchangeinstitute.org/event/crossing-cultures-with-competence-workshop-level-1/
LOCATION:Virtual
ORGANIZER;CN="The Interchange Institute":MAILTO:info@interchangeinstitute.org
END:VEVENT
END:VCALENDAR