BEGIN:VCALENDAR
VERSION:2.0
PRODID:-//The Interchange Institute - ECPv6.15.20//NONSGML v1.0//EN
CALSCALE:GREGORIAN
METHOD:PUBLISH
X-WR-CALNAME:The Interchange Institute
X-ORIGINAL-URL:https://interchangeinstitute.org
X-WR-CALDESC:Events for The Interchange Institute
REFRESH-INTERVAL;VALUE=DURATION:PT1H
X-Robots-Tag:noindex
X-PUBLISHED-TTL:PT1H
BEGIN:VTIMEZONE
TZID:UTC
BEGIN:STANDARD
TZOFFSETFROM:+0000
TZOFFSETTO:+0000
TZNAME:UTC
DTSTART:20220101T000000
END:STANDARD
END:VTIMEZONE
BEGIN:VEVENT
DTSTART;TZID=UTC:20230405T150000
DTEND;TZID=UTC:20230405T160000
DTSTAMP:20260424T235849
CREATED:20230228T141119Z
LAST-MODIFIED:20230228T142841Z
UID:3638-1680706800-1680710400@interchangeinstitute.org
SUMMARY:Culture Chat
DESCRIPTION:Looking to connect with other interculturalists from around the world? Join us for our free bi-weekly online Culture Chat. \nEach chat will have a focus question\, and previous topics have included Third Culture Kids and Cross Culture Kids\, favorite training activities\, culturally specific food traditions\, end-of-year traditions and holidays\, and more. \nWhether you’re a newcomer or a seasoned pro\, there’s something for everyone in our Culture Chat community. \nREGISTER AT: https://interchangeinstitute.org/culture-chat/
URL:https://interchangeinstitute.org/event/culture-chat-27/
LOCATION:Virtual
CATEGORIES:culture chat
ORGANIZER;CN="The Interchange Institute":MAILTO:info@interchangeinstitute.org
END:VEVENT
BEGIN:VEVENT
DTSTART;TZID=UTC:20230419T150000
DTEND;TZID=UTC:20230419T160000
DTSTAMP:20260424T235849
CREATED:20230228T141345Z
LAST-MODIFIED:20230228T142905Z
UID:3640-1681916400-1681920000@interchangeinstitute.org
SUMMARY:Culture Chat
DESCRIPTION:Looking to connect with other interculturalists from around the world? Join us for our free bi-weekly online Culture Chat. \nEach chat will have a focus question\, and previous topics have included Third Culture Kids and Cross Culture Kids\, favorite training activities\, culturally specific food traditions\, end-of-year traditions and holidays\, and more. \nWhether you’re a newcomer or a seasoned pro\, there’s something for everyone in our Culture Chat community. \nREGISTER AT: https://interchangeinstitute.org/culture-chat/
URL:https://interchangeinstitute.org/event/culture-chat-28/
LOCATION:Virtual
CATEGORIES:culture chat
END:VEVENT
BEGIN:VEVENT
DTSTART;VALUE=DATE:20230427
DTEND;VALUE=DATE:20230429
DTSTAMP:20260424T235849
CREATED:20230228T134011Z
LAST-MODIFIED:20230228T134139Z
UID:3626-1682553600-1682726399@interchangeinstitute.org
SUMMARY:Crossing Cultures With Competence: Training of Trainers Workshop – Mumbai\, India
DESCRIPTION:This unique training of trainers program is designed for those who are already working with people from other cultures and who want new ideas\, new materials and a new level of understanding about how to offer a top-notch cultural orientation.  This course will enable you to: \n\nlearn the strategies and techniques you need to offer in-depth and culture-specific cross-cultural orientations\nadd cultural skills to your knowledge base\nsupplement your existing cross-cultural training program\nease employees’ transition to a new country\n\n*Early bird and group discounts available
URL:https://interchangeinstitute.org/event/crossing-cultures-with-competence-training-of-trainers-workshop-mumbai-india/
LOCATION:Mumbai\, India
CATEGORIES:CCwC
ORGANIZER;CN="The Interchange Institute":MAILTO:info@interchangeinstitute.org
END:VEVENT
END:VCALENDAR